BEGIN:VCALENDAR
VERSION:2.0
PRODID:-//Calvary Bible Church - ECPv6.15.20//NONSGML v1.0//EN
CALSCALE:GREGORIAN
METHOD:PUBLISH
X-ORIGINAL-URL:https://cbcmb.com
X-WR-CALDESC:Events for Calvary Bible Church
REFRESH-INTERVAL;VALUE=DURATION:PT1H
X-Robots-Tag:noindex
X-PUBLISHED-TTL:PT1H
BEGIN:VTIMEZONE
TZID:America/New_York
BEGIN:DAYLIGHT
TZOFFSETFROM:-0500
TZOFFSETTO:-0400
TZNAME:EDT
DTSTART:20200308T070000
END:DAYLIGHT
BEGIN:STANDARD
TZOFFSETFROM:-0400
TZOFFSETTO:-0500
TZNAME:EST
DTSTART:20201101T060000
END:STANDARD
BEGIN:DAYLIGHT
TZOFFSETFROM:-0500
TZOFFSETTO:-0400
TZNAME:EDT
DTSTART:20210314T070000
END:DAYLIGHT
BEGIN:STANDARD
TZOFFSETFROM:-0400
TZOFFSETTO:-0500
TZNAME:EST
DTSTART:20211107T060000
END:STANDARD
BEGIN:DAYLIGHT
TZOFFSETFROM:-0500
TZOFFSETTO:-0400
TZNAME:EDT
DTSTART:20220313T070000
END:DAYLIGHT
BEGIN:STANDARD
TZOFFSETFROM:-0400
TZOFFSETTO:-0500
TZNAME:EST
DTSTART:20221106T060000
END:STANDARD
END:VTIMEZONE
BEGIN:VEVENT
DTSTART;TZID=America/New_York:20211224T170000
DTEND;TZID=America/New_York:20211224T180000
DTSTAMP:20260419T104213
CREATED:20211208T151401Z
LAST-MODIFIED:20211208T151401Z
UID:10001199-1640365200-1640368800@cbcmb.com
SUMMARY:Christmas Eve Service
DESCRIPTION:
URL:https://cbcmb.com/event/christmas-eve-service/
LOCATION:Calvary Bible Church\, 4511 Dick Pond Road\, Myrtle Beach\, SC\, 29588\, United States
GEO:33.6681846;-78.9978936
X-APPLE-STRUCTURED-LOCATION;VALUE=URI;X-ADDRESS=Calvary Bible Church 4511 Dick Pond Road Myrtle Beach SC 29588 United States;X-APPLE-RADIUS=500;X-TITLE=4511 Dick Pond Road:geo:-78.9978936,33.6681846
END:VEVENT
END:VCALENDAR