BEGIN:VCALENDAR
VERSION:2.0
PRODID:-//Calvary Bible Church - ECPv6.15.20//NONSGML v1.0//EN
CALSCALE:GREGORIAN
METHOD:PUBLISH
X-WR-CALNAME:Calvary Bible Church
X-ORIGINAL-URL:https://cbcmb.com
X-WR-CALDESC:Events for Calvary Bible Church
REFRESH-INTERVAL;VALUE=DURATION:PT1H
X-Robots-Tag:noindex
X-PUBLISHED-TTL:PT1H
BEGIN:VTIMEZONE
TZID:America/New_York
BEGIN:DAYLIGHT
TZOFFSETFROM:-0500
TZOFFSETTO:-0400
TZNAME:EDT
DTSTART:20210314T070000
END:DAYLIGHT
BEGIN:STANDARD
TZOFFSETFROM:-0400
TZOFFSETTO:-0500
TZNAME:EST
DTSTART:20211107T060000
END:STANDARD
BEGIN:DAYLIGHT
TZOFFSETFROM:-0500
TZOFFSETTO:-0400
TZNAME:EDT
DTSTART:20220313T070000
END:DAYLIGHT
BEGIN:STANDARD
TZOFFSETFROM:-0400
TZOFFSETTO:-0500
TZNAME:EST
DTSTART:20221106T060000
END:STANDARD
BEGIN:DAYLIGHT
TZOFFSETFROM:-0500
TZOFFSETTO:-0400
TZNAME:EDT
DTSTART:20230312T070000
END:DAYLIGHT
BEGIN:STANDARD
TZOFFSETFROM:-0400
TZOFFSETTO:-0500
TZNAME:EST
DTSTART:20231105T060000
END:STANDARD
END:VTIMEZONE
BEGIN:VEVENT
DTSTART;TZID=America/New_York:20220220T094500
DTEND;TZID=America/New_York:20220220T121500
DTSTAMP:20260421T075047
CREATED:20211208T154745Z
LAST-MODIFIED:20211208T163516Z
UID:10001149-1645350300-1645359300@cbcmb.com
SUMMARY:Sunday School & Morning Worship
DESCRIPTION:
URL:https://cbcmb.com/event/sunday-school-morning-worship-3-2022-01-02/2022-02-20/
LOCATION:NC
END:VEVENT
BEGIN:VEVENT
DTSTART;TZID=America/New_York:20220220T140000
DTEND;TZID=America/New_York:20220220T170000
DTSTAMP:20260421T075047
CREATED:20220118T142658Z
LAST-MODIFIED:20220118T142658Z
UID:10001215-1645365600-1645376400@cbcmb.com
SUMMARY:Calvary Christian School Open House
DESCRIPTION:
URL:https://cbcmb.com/event/calvary-christian-school-open-house/
LOCATION:Calvary Christian School\, 4511 Dick Pond Rd.\, Myrtle Beach \, SC\, 29588\, United States
GEO:33.6681846;-78.9978936
X-APPLE-STRUCTURED-LOCATION;VALUE=URI;X-ADDRESS=Calvary Christian School 4511 Dick Pond Rd. Myrtle Beach  SC 29588 United States;X-APPLE-RADIUS=500;X-TITLE=4511 Dick Pond Rd.:geo:-78.9978936,33.6681846
END:VEVENT
END:VCALENDAR