BEGIN:VCALENDAR
VERSION:2.0
PRODID:-//Calvary Bible Church - ECPv6.15.20//NONSGML v1.0//EN
CALSCALE:GREGORIAN
METHOD:PUBLISH
X-ORIGINAL-URL:https://cbcmb.com
X-WR-CALDESC:Events for Calvary Bible Church
REFRESH-INTERVAL;VALUE=DURATION:PT1H
X-Robots-Tag:noindex
X-PUBLISHED-TTL:PT1H
BEGIN:VTIMEZONE
TZID:America/New_York
BEGIN:DAYLIGHT
TZOFFSETFROM:-0500
TZOFFSETTO:-0400
TZNAME:EDT
DTSTART:20190310T070000
END:DAYLIGHT
BEGIN:STANDARD
TZOFFSETFROM:-0400
TZOFFSETTO:-0500
TZNAME:EST
DTSTART:20191103T060000
END:STANDARD
BEGIN:DAYLIGHT
TZOFFSETFROM:-0500
TZOFFSETTO:-0400
TZNAME:EDT
DTSTART:20200308T070000
END:DAYLIGHT
BEGIN:STANDARD
TZOFFSETFROM:-0400
TZOFFSETTO:-0500
TZNAME:EST
DTSTART:20201101T060000
END:STANDARD
BEGIN:DAYLIGHT
TZOFFSETFROM:-0500
TZOFFSETTO:-0400
TZNAME:EDT
DTSTART:20210314T070000
END:DAYLIGHT
BEGIN:STANDARD
TZOFFSETFROM:-0400
TZOFFSETTO:-0500
TZNAME:EST
DTSTART:20211107T060000
END:STANDARD
END:VTIMEZONE
BEGIN:VEVENT
DTSTART;TZID=America/New_York:20201115T173000
DTEND;TZID=America/New_York:20201115T193000
DTSTAMP:20260424T123014
CREATED:20200917T165939Z
LAST-MODIFIED:20200917T165939Z
UID:10001213-1605461400-1605468600@cbcmb.com
SUMMARY:Exchange Seminar
DESCRIPTION:
URL:https://cbcmb.com/event/exchange-seminar/
LOCATION:Calvary Bible Church\, 4511 Dick Pond Road\, Myrtle Beach\, SC\, 29588\, United States
ORGANIZER;CN="Pastor Mark Roland":MAILTO:mroland@ccsmb.com
GEO:33.6681846;-78.9978936
X-APPLE-STRUCTURED-LOCATION;VALUE=URI;X-ADDRESS=Calvary Bible Church 4511 Dick Pond Road Myrtle Beach SC 29588 United States;X-APPLE-RADIUS=500;X-TITLE=4511 Dick Pond Road:geo:-78.9978936,33.6681846
END:VEVENT
BEGIN:VEVENT
DTSTART;TZID=America/New_York:20201116T183000
DTEND;TZID=America/New_York:20201116T203000
DTSTAMP:20260424T123014
CREATED:20200917T170039Z
LAST-MODIFIED:20200917T170039Z
UID:10001200-1605551400-1605558600@cbcmb.com
SUMMARY:Exchange Seminar
DESCRIPTION:
URL:https://cbcmb.com/event/exchange-seminar-2/
LOCATION:Calvary Bible Church\, 4511 Dick Pond Road\, Myrtle Beach\, SC\, 29588\, United States
ORGANIZER;CN="Pastor Mark Roland":MAILTO:mroland@ccsmb.com
GEO:33.6681846;-78.9978936
X-APPLE-STRUCTURED-LOCATION;VALUE=URI;X-ADDRESS=Calvary Bible Church 4511 Dick Pond Road Myrtle Beach SC 29588 United States;X-APPLE-RADIUS=500;X-TITLE=4511 Dick Pond Road:geo:-78.9978936,33.6681846
END:VEVENT
END:VCALENDAR